BEGIN:VCALENDAR
METHOD:PUBLISH
VERSION:2.0
PRODID:-//WoltLab GmbH//WoltLab Suite Calendar 5.4//EN
CALSCALE:GREGORIAN
X-WR-CALNAME;VALUE=TEXT:PowerRUMpel Weihnachtskonzert
BEGIN:VEVENT
TRANSP:OPAQUE
UID:event-113@radiodxfreunde.de
URL:https://radiodxfreunde.de/calendar/event/1781-powerrumpel-weihnachtskon
 zert/
DTSTART:20241224T180000Z
DTSTAMP:20241224T180000Z
CREATED:20241224T180000Z
SUMMARY:PowerRUMpel Weihnachtskonzert
DESCRIPTION:Weihnachtskonzert\n\nBei Radio Unerhört hab ich noch ein Konzer
 t für euch:\n\nDas Weihnachtskonzert 2023 des Pop und Gospelchor Raboldshau
 sen und des Männergesangverein Görzhain\, aufgezeichnet in der Kirche zu Ob
 eraula am 16.12.2023\n\nSendetermine: So 22.12.2024 19 Uhr  wdh. Di 24.12.2
 024 19 Uhr
LOCATION:Radio Unerhört Marburg
DTEND:20241224T190000Z
CATEGORIES:Weihnachtskonzert
END:VEVENT
END:VCALENDAR
